Workbook

Sheet FACTURA
C4: CEDULA EMPLEADO | D4: 2
C5: CEDULA CLIENTE | D5: 2222 | E5: FECHA | F5: =TODAY() -> 43196
B6: DATOS CLIENTE
B7: NOMBRE | C7: =IFERROR(VLOOKUP(D5,CLIENTES!A:E,2,FALSE),"") -> MARIA | E7: APELLIDO | F7: =IFERROR(VLOOKUP(D5,CLIENTES!A:E,3,FALSE),"") -> PEREZ
B8: DIRECCIÓN | C8: =IFERROR(VLOOKUP(D5,CLIENTES!A:E,4,FALSE),"") -> QUITO | E8: TELÉFONO | F8: =IFERROR(VLOOKUP(D5,CLIENTES!A:E,5,FALSE),"") -> 5446555
B9: FACTURA DE COMPRA
B10: CODIGO | C10: PRODUCTO | E10: CANTIDAD | F10: VALOR | G10: TOTAL
B11: a1 | C11: =IFERROR(VLOOKUP(B11,ARTÍCULOS!A:C,2,FALSE),"") -> CAMISETA DAMA | E11: 2 | F11: =IFERROR(VLOOKUP(B11,ARTÍCULOS!A:C,3,FALSE),0) -> 22000 | G11: =E11*F11 -> 44000
C12: =IFERROR(VLOOKUP(B12,ARTÍCULOS!A:C,2,FALSE),"") | E12: 3 | F12: =IFERROR(VLOOKUP(B12,ARTÍCULOS!A:C,3,FALSE),0) -> 0 | G12: =E12*F12 -> 0
C13: =IFERROR(VLOOKUP(B13,ARTÍCULOS!A:C,2,FALSE),"") | E13: 4 | F13: =IFERROR(VLOOKUP(B13,ARTÍCULOS!A:C,3,FALSE),0) -> 0 | G13: =E13*F13 -> 0
C14: =IFERROR(VLOOKUP(B14,ARTÍCULOS!A:C,2,FALSE),"") | E14: 5 | F14: =IFERROR(VLOOKUP(B14,ARTÍCULOS!A:C,3,FALSE),0) -> 0 | G14: =E14*F14 -> 0
C15: =IFERROR(VLOOKUP(B15,ARTÍCULOS!A:C,2,FALSE),"") | E15: 6 | F15: =IFERROR(VLOOKUP(B15,ARTÍCULOS!A:C,3,FALSE),0) -> 0 | G15: =E15*F15 -> 0
C16: =IFERROR(VLOOKUP(B16,ARTÍCULOS!A:C,2,FALSE),"") | E16: 7 | F16: =IFERROR(VLOOKUP(B16,ARTÍCULOS!A:C,3,FALSE),0) -> 0 | G16: =E16*F16 -> 0
C17: CANTIDAD DE ARTÍCULOS | F17: SUBTOTAL | G17: =SUM(G11:G16) -> 44000
F18: I.V.A | G18: =G17*15% -> 6600
B19: VENDEDOR | C19: =IFERROR(VLOOKUP(D4,EMPLEADOS!A:B,2,FALSE),"") -> ANDRES OCHOA | F19: TOTAL | G19: =SUM(G17:G18) -> 50600

Sheet EMPLEADOS
A1: ID EMPLEADO | B1: NOMBRE EMPLEADO
A2: 1 | B2: REINA FARIA
A3: 2 | B3: ANDRES OCHOA

Sheet CLIENTES
A1: ID CLIENTE | B1: NOMBRE | C1: APELLIDO | D1: DIRECCIÓN | E1: TELÉFONO
A2: 1111 | B2: JUAN | C2: MENDOZA | D2: BOGOTÁ | E2: 6113355
A3: 2222 | B3: MARIA | C3: PEREZ | D3: QUITO | E3: 5446555
A4: 3333 | B4: LUIS ALBERTO | C4: RAMIREZ | D4: CARACAS | E4: 5555544

Sheet ARTÍCULOS
A1: CODIGO | B1: PRODUCTO | C1: VALOR
A2: A1 | B2: CAMISETA DAMA | C2: 22000
A3: A2 | B3: CAMISETA HOMBRE | C3: 20000
A4: A3 | B4: CAMISETA NIÑO | C4: 15000
