Workbook

Sheet Instrucciones de Uso

Sheet Datos
B5: EMPRESA: | C5: Sandolán S.A
C7: PERÍODOS
B8: ACTIVO | C8: 2012 | D8: 2013 | E8: 2014 | F8: 2015
B9: INMOVILIZADO | C9: =SUM(C10:C12)-C13 -> 4940 | D9: =SUM(D10:D12)-D13 -> 4810 | E9: =SUM(E10:E12)-E13 -> 4650 | F9: =SUM(F10:F12)-F13 -> 4700
B10: Terrenos y construcciones | C10: 1000 | D10: 1000 | E10: 1100 | F10: 1300
B11: Otro inmovilizado material | C11: 4000 | D11: 4200 | E11: 4250 | F11: 4500
B12: Inmovilizado inmaterial | C12: 500 | D12: 500 | E12: 500 | F12: 500
B13: Amortiz. inmovilizado material | C13: 560 | D13: 890 | E13: 1200 | F13: 1600
B14: Existencias | C14: 900 | D14: 1100 | E14: 1000 | F14: 1050
B15: Realizables | C15: =SUM(C16:C17) -> 840 | D15: =SUM(D16:D17) -> 920 | E15: =SUM(E16:E17) -> 1080 | F15: =SUM(F16:F17) -> 970
B16: Clientes | C16: 700 | D16: 800 | E16: 900 | F16: 770
B17: Otro realizable | C17: 140 | D17: 120 | E17: 180 | F17: 200
B18: DISPONIBLE | C18: =SUM(C19:C20) -> 430 | D18: =SUM(D19:D20) -> 640 | E18: =SUM(E19:E20) -> 510 | F18: =SUM(F19:F20) -> 550
B19: Caja | C19: 130 | D19: 140 | E19: 160 | F19: 150
B20: Bancos | C20: 300 | D20: 500 | E20: 350 | F20: 400
B21: TOTAL ACTIVO | C21: =C9+C14+C15+C18 -> 7110 | D21: =D9+D14+D15+D18 -> 7470 | E21: =E9+E14+E15+E18 -> 7240 | F21: =F9+F14+F15+F18 -> 7270
B23: PASIVO | C23: 2012 | D23: 2013 | E23: 2014 | F23: 2015
B24: RECURSOS PROPIOS | C24: =SUM(C25:C28) -> 4840 | D24: =SUM(D25:D28) -> 5140 | E24: =SUM(E25:E28) -> 5135 | F24: =SUM(F25:F28) -> 5250
B25: Capital | C25: 3000 | D25: 3000 | E25: 3000 | F25: 3000
B26: Reservas | C26: 1070 | D26: 1340 | E26: 1340 | F26: 1455
B27: Perdidas y ganancias | C27: 770 | D27: 800 | E27: 795 | F27: 795
B28: Otros recursos
B29: ACREEDORES A LARGO PLAZO | C29: =SUM(C30:C31) -> 1460 | D29: =SUM(D30:D31) -> 1360 | E29: =SUM(E30:E31) -> 1480 | F29: =SUM(F30:F31) -> 1300
B30: Deudas con entidades de crédito | C30: 1460 | D30: 1360 | E30: 1480 | F30: 1300
B31: Otras dudas a largo plazo
B32: ACREEDORES A CORTO PLAZO | C32: =SUM(C33:C35) -> 810 | D32: =SUM(D33:D35) -> 970 | E32: =SUM(E33:E35) -> 625 | F32: =SUM(F33:F35) -> 720
B33: Proveedores | C33: 500 | D33: 550 | E33: 430 | F33: 450
B34: Entidades de crédito | C34: 110 | D34: 50 | E34: 10 | F34: 60
B35: Otras deudas a corto | C35: 200 | D35: 370 | E35: 185 | F35: 210
B36: TOTAL PASIVO | C36: =C24+C29+C32 -> 7110 | D36: =D24+D29+D32 -> 7470 | E36: =E24+E29+E32 -> 7240 | F36: =F24+F29+F32 -> 7270
C37: =IF(C21<>C36,"DESCUADRE","") | D37: =IF(D21<>D36,"DESCUADRE","") | E37: =IF(E21<>E36,"DESCUADRE","") | F37: =IF(F21<>F36,"DESCUADRE","")
B39: CUENTA DE RESULTADOS | C39: 2012 | D39: 2013 | E39: 2014 | F39: 2015
B40: INGRESOS | C40: =SUM(C41:C42) -> 5050 | D40: =SUM(D41:D42) -> 5180 | E40: =SUM(E41:E42) -> 5400 | F40: =SUM(F41:F42) -> 5980
B41: Ventas | C41: 5000 | D41: 5100 | E41: 5300 | F41: 5900
B42: Otros ingresos | C42: 50 | D42: 80 | E42: 100 | F42: 80
B43: CONSUMOS | C43: =SUM(C44:C45) -> 2700 | D43: =SUM(D44:D45) -> 2500 | E43: =SUM(E44:E45) -> 2700 | F43: =SUM(F44:F45) -> 3050
B44: Compras | C44: 2600 | D44: 2700 | E44: 2600 | F44: 3100
B45: Variación de existencias | C45: 100 | D45: -200 | E45: 100 | F45: -50
B46: GASTOS | C46: =SUM(C47:C51) -> 1180 | D46: =SUM(D47:D51) -> 1250 | E46: =SUM(E47:E51) -> 1315 | F46: =SUM(F47:F51) -> 1485
B47: Gastos de personal | C47: 600 | D47: 560 | E47: 620 | F47: 700
...

Sheet Análisis financiero
C3: =Datos!C5 -> Sandolán S.A
B5: RATIOS | C5: =Datos!C8 -> 2012 | D5: =Datos!D8 -> 2013 | E5: =Datos!E8 -> 2014 | F5: =Datos!F8 -> 2015 | G5: Fórmula | H5: Significado
B7: Tesorería | C7: =IF(Datos!C32=0,"",(Datos!C15+Datos!C18)/Datos!C32) -> 1.5679012 | D7: =IF(Datos!D32=0,"",(Datos!D15+Datos!D18)/Datos!D32) -> 1.6082474 | E7: =IF(Datos!E32=0,"",(Datos!E15+Datos!E18)/Datos!E32) -> 2.544 | F7: =IF(Datos!F32=0,"",(Datos!F15+Datos!F18)/Datos!F32) -> 2.1111111 | G7: DISPON. + REALIZABLE | H7: Capacidad para atender las obligaciones de pago a corto sin realizar existencias
G8: EXIGIBLE A CORTO
B10: Liquidez | C10: =IF(Datos!C32=0,0,(Datos!C14+Datos!C15+Datos!C18)/Datos!C32) -> 2.6790123 | D10: =IF(Datos!D32=0,0,(Datos!D14+Datos!D15+Datos!D18)/Datos!D32) -> 2.742268 | E10: =IF(Datos!E32=0,0,(Datos!E14+Datos!E15+Datos!E18)/Datos!E32) -> 4.144 | F10: =IF(Datos!F32=0,0,(Datos!F14+Datos!F15+Datos!F18)/Datos!F32) -> 3.5694444 | G10: ACTIVO CIRCULANTE | H10: Capacidad para hacer frente a las obligaciones a corto basándose en la realización del activo circulante
G11: PASIVO CIRCULANTE
B13: Autonomía | C13: =IF(Datos!C21=0,0,Datos!C24/Datos!C21) -> 0.68073136 | D13: =IF(Datos!D21=0,0,Datos!D24/Datos!D21) -> 0.68808568 | E13: =IF(Datos!E21=0,0,Datos!E24/Datos!E21) -> 0.70925414 | F13: =IF(Datos!F21=0,0,Datos!F24/Datos!F21) -> 0.7221458 | G13: RECURSOS PROPIOS | H13: Autonomía financiera que indica nivel de autofinanciación
G14: ACTIVOS TOTALES
B16: Endeudamiento | C16: =IF(Datos!C24=0,0,(Datos!C29+Datos!C32)/Datos!C24) -> 0.46900826 | D16: =IF(Datos!D24=0,0,(Datos!D29+Datos!D32)/Datos!D24) -> 0.45330739 | E16: =IF(Datos!E24=0,0,(Datos!E29+Datos!E32)/Datos!E24) -> 0.40993184 | F16: =IF(Datos!F24=0,0,(Datos!F29+Datos!F32)/Datos!F24) -> 0.3847619 | G16: PASIVO EXIGIBLE | H16: Relación entre financiación propia y ajena
G17: RECURSOS PROPIOS
B19: Estabilidad | C19: =IF(Datos!C24=0,0,Datos!C9/(Datos!C24+Datos!C29)) -> 0.78412698 | D19: =IF(Datos!D24=0,0,Datos!D9/(Datos!D24+Datos!D29)) -> 0.74 | E19: =IF(Datos!E24=0,0,Datos!E9/(Datos!E24+Datos!E29)) -> 0.70294785 | F19: =IF(Datos!F24=0,0,Datos!F9/(Datos!F24+Datos!F29)) -> 0.71755725 | G19: INMOVILIZADO | H19: Estructura de financiación del inmovilizado
G20: EXIG. LARGO + R. PROP.
B22: Capital de trabajo // Fondo de maniobra | C22: =Datos!C24+Datos!C29-Datos!C9 -> 1360 | D22: =Datos!D24+Datos!D29-Datos!D9 -> 1690 | E22: =Datos!E24+Datos!E29-Datos!E9 -> 1965 | F22: =Datos!F24+Datos!F29-Datos!F9 -> 1850 | G22: RECURS. A LARGO MENOS INMOVILIZADO | H22: Capital de trabajo. Parte de activo circulante financiado con recursos a largo plazo.

Sheet Análisis de Rentabilidad
C3: =Datos!C5 -> Sandolán S.A
B5: RATIOS | C5: =Datos!C8 -> 2012 | D5: =Datos!D8 -> 2013 | E5: =Datos!E8 -> 2014 | F5: =Datos!F8 -> 2015 | G5: Fórmula | H5: Significado
B7: Financiera | C7: =IF(Datos!C36=0,0,(Datos!C59+Datos!C53)/Datos!C36) -> 0.13642757 | D7: =IF(Datos!D36=0,0,(Datos!D59+Datos!D53)/Datos!D36) -> 0.13119143 | E7: =IF(Datos!E36=0,0,(Datos!E59+Datos!E53)/Datos!E36) -> 0.13604972 | F7: =IF(Datos!F36=0,0,(Datos!F59+Datos!F53)/Datos!F36) -> 0.13273728 | G7: (Bº + G. FINANC.)x100 | H7: Rentabilidad financiera de todos los recursos empleados en la empresa
G8: RECURS. TOTALES
B10: Recursos Propios | C10: =IF(Datos!C24=0,0,(Datos!C59/Datos!C24)) -> 0.15909091 | D10: =IF(Datos!D24=0,0,(Datos!D59/Datos!D24)) -> 0.15564202 | E10: =IF(Datos!E24=0,0,(Datos!E59/Datos!E24)) -> 0.15481986 | F10: =IF(Datos!F24=0,0,(Datos!F59/Datos!F24)) -> 0.15142857 | G10: RESULTADO NETO x 100 | H10: Rentabilidad de los recursos propios
G11: RECURSOS PROPIOS
B13: Global | C13: =IF(Datos!C36=0,0,Datos!C59/Datos!C36) -> 0.10829817 | D13: =IF(Datos!D36=0,0,Datos!D59/Datos!D36) -> 0.10709505 | E13: =IF(Datos!E36=0,0,Datos!E59/Datos!E36) -> 0.10980663 | F13: =IF(Datos!F36=0,0,Datos!F59/Datos!F36) -> 0.10935351 | G13: RESULTADO NETO x 100 | H13: Rentabilidad económica de todos los recursos empleados
G14: RECURSOS TOTALES
B16: De Capital | C16: =IF(Datos!C25=0,0,Datos!C59/Datos!C25) -> 0.25666667 | D16: =IF(Datos!D25=0,0,Datos!D59/Datos!D25) -> 0.26666667 | E16: =IF(Datos!E25=0,0,Datos!E59/Datos!E25) -> 0.265 | F16: =IF(Datos!F25=0,0,Datos!F59/Datos!F25) -> 0.265 | G16: RESULTADO NETO x 100 | H16: Rentabilidad del capital social
G17: CAPITAL SOCIAL
B19: Rent. Ventas | C19: =IF(Datos!C40=0,0,Datos!C59/Datos!C41) -> 0.154 | D19: =IF(Datos!D40=0,0,Datos!D59/Datos!D41) -> 0.15686275 | E19: =IF(Datos!E40=0,0,Datos!E59/Datos!E41) -> 0.15 | F19: =IF(Datos!F40=0,0,Datos!F59/Datos!F41) -> 0.13474576 | G19: RESULTADO NETO x 100 | H19: Rentabilidad de la ventas
G20: VENTAS
B22: Margen sobre ventas | C22: =IF(Datos!C41=0,0,(Datos!C41-Datos!C43)/Datos!C41) -> 0.46 | D22: =IF(Datos!D41=0,0,(Datos!D41-Datos!D43)/Datos!D41) -> 0.50980392 | E22: =IF(Datos!E41=0,0,(Datos!E41-Datos!E43)/Datos!E41) -> 0.49056604 | F22: =IF(Datos!F41=0,0,(Datos!F41-Datos!F43)/Datos!F41) -> 0.48305085 | G22: MARGEN x100 | H22: Porcentaje de margen sobre ventas
G23: VENTAS

Sheet Análisis de Gestión
C3: =Datos!C5 -> Sandolán S.A
B5: RATIOS | C5: =Datos!C8 -> 2012 | D5: =Datos!D8 -> 2013 | E5: =Datos!E8 -> 2014 | F5: =Datos!F8 -> 2015 | G5: Fórmula | H5: Significado
B7: EXISTENCIAS EN DÍAS DE COMPRA | C7: =IF(Datos!C43=0,0,365*Datos!C14/Datos!C43) -> 121.66667 | D7: =IF(Datos!D43=0,0,365*Datos!D14/Datos!D43) -> 160.6 | E7: =IF(Datos!E43=0,0,365*Datos!E14/Datos!E43) -> 135.18519 | F7: =IF(Datos!F43=0,0,365*Datos!F14/Datos!F43) -> 125.65574 | G7: 365 x EXISTENCIAS | H7: Número de días que tardan en vaciarse el saldo en inventarios | J7: EXISTENCIAS
G8: CONSUMOS
B10: DÍAS DE PAGO A PROVEEDORES | C10: =IF(Datos!C44=0,0,365*Datos!C33/Datos!C44) -> 70.192308 | D10: =IF(Datos!D44=0,0,365*Datos!D33/Datos!D44) -> 74.351852 | E10: =IF(Datos!E44=0,0,365*Datos!E33/Datos!E44) -> 60.365385 | F10: =IF(Datos!F44=0,0,365*Datos!F33/Datos!F44) -> 52.983871 | G10: 365 x PROVEEDORES | H10: Número de días concedidos por proveedores | J10: PROVEEDORES
G11: COMPRAS
B13: DÍAS DE COBRO A CLIENTES | C13: =IF(Datos!C41=0,0,365*Datos!C16/Datos!C41) -> 51.1 | D13: =IF(Datos!D41=0,0,365*Datos!D16/Datos!D41) -> 57.254902 | E13: =IF(Datos!E41=0,0,365*Datos!E16/Datos!E41) -> 61.981132 | F13: =IF(Datos!F41=0,0,365*Datos!F16/Datos!F41) -> 47.635593 | G13: 365 x CLIENTES | H13: Plazo medio concedido a clientes | J13: CLIENTES
G14: VENTAS
B16: ROTACIÓN DE TESORERÍA | C16: =IF(Datos!C44=0,0,365*Datos!C18/Datos!C44) -> 60.365385 | D16: =IF(Datos!D44=0,0,365*Datos!D18/Datos!D44) -> 86.518519 | E16: =IF(Datos!E44=0,0,365*Datos!E18/Datos!E44) -> 71.596154 | F16: =IF(Datos!F44=0,0,365*Datos!F18/Datos!F44) -> 64.758065 | G16: 365 x DISPONIBLE | H16: Días de compra cubiertos con el saldo disponible | J16: TESORERÍA
G17: COMPRAS
B19: PRODUCTIVIDAD | C19: =IF(Datos!C47=0,0,(Datos!C40-Datos!C43-Datos!C49-Datos!C50-Datos!C51)/(Datos!C47+Datos!C48)) -> 2.625 | D19: =IF(Datos!D47=0,0,(Datos!D40-Datos!D43-Datos!D49-Datos!D50-Datos!D51)/(Datos!D47+Datos!D48)) -> 3.1343284 | E19: =IF(Datos!E47=0,0,(Datos!E40-Datos!E43-Datos!E49-Datos!E50-Datos!E51)/(Datos!E47+Datos!E48)) -> 2.9236111 | F19: =IF(Datos!F47=0,0,(Datos!F40-Datos!F43-Datos!F49-Datos!F50-Datos!F51)/(Datos!F47+Datos!F48)) -> 2.7202381 | G19: RESULTADO GESTIÓN | H19: Relación entre el resultado de la gestión y los gastos de personal
G20: GASTOS PERSONAL
